BEGIN:VCALENDAR
VERSION:2.0
PRODID:-//Bishopthorpe Parish Council//Meeting Calendar//EN
CALSCALE:GREGORIAN
METHOD:PUBLISH
BEGIN:VEVENT
UID:88881-20260428@bishopthorpe-pc.gov.uk
DTSTAMP:20260423T114956Z
DTSTART;VALUE=DATE:20260428
DTEND;VALUE=DATE:20260429
SUMMARY:April Parish Council meeting
DESCRIPTION:Full Council Meeting\nView details: https://bishopthorpe-pc.gov.uk/meetings/april-parish-council-meeting/
URL:https://bishopthorpe-pc.gov.uk/meetings/april-parish-council-meeting/
END:VEVENT
END:VCALENDAR
