BEGIN:VCALENDAR
VERSION:2.0
PRODID:-//Bishopthorpe Parish Council//Meeting Calendar//EN
CALSCALE:GREGORIAN
METHOD:PUBLISH
BEGIN:VEVENT
UID:88833-20261124@bishopthorpe-pc.gov.uk
DTSTAMP:20260423T082436Z
DTSTART;VALUE=DATE:20261124
DTEND;VALUE=DATE:20261125
SUMMARY:November Parish Council meeting
DESCRIPTION:Full Council Meeting\nView details: https://bishopthorpe-pc.gov.uk/meetings/november-parish-council-meeting/
URL:https://bishopthorpe-pc.gov.uk/meetings/november-parish-council-meeting/
END:VEVENT
END:VCALENDAR
